BEGIN:VCALENDAR
VERSION:2.0
PRODID:-//MCC Rhein Ahr - ECPv6.15.20//NONSGML v1.0//EN
CALSCALE:GREGORIAN
METHOD:PUBLISH
X-ORIGINAL-URL:https://mcc-rhein-ahr.de
X-WR-CALDESC:Veranstaltungen für MCC Rhein Ahr
REFRESH-INTERVAL;VALUE=DURATION:PT1H
X-Robots-Tag:noindex
X-PUBLISHED-TTL:PT1H
BEGIN:VTIMEZONE
TZID:Europe/Berlin
BEGIN:DAYLIGHT
TZOFFSETFROM:+0100
TZOFFSETTO:+0200
TZNAME:CEST
DTSTART:20240331T010000
END:DAYLIGHT
BEGIN:STANDARD
TZOFFSETFROM:+0200
TZOFFSETTO:+0100
TZNAME:CET
DTSTART:20241027T010000
END:STANDARD
BEGIN:DAYLIGHT
TZOFFSETFROM:+0100
TZOFFSETTO:+0200
TZNAME:CEST
DTSTART:20250330T010000
END:DAYLIGHT
BEGIN:STANDARD
TZOFFSETFROM:+0200
TZOFFSETTO:+0100
TZNAME:CET
DTSTART:20251026T010000
END:STANDARD
BEGIN:DAYLIGHT
TZOFFSETFROM:+0100
TZOFFSETTO:+0200
TZNAME:CEST
DTSTART:20260329T010000
END:DAYLIGHT
BEGIN:STANDARD
TZOFFSETFROM:+0200
TZOFFSETTO:+0100
TZNAME:CET
DTSTART:20261025T010000
END:STANDARD
END:VTIMEZONE
BEGIN:VEVENT
DTSTART;TZID=Europe/Berlin:20250419T090000
DTEND;TZID=Europe/Berlin:20250420T180000
DTSTAMP:20260424T163402
CREATED:20250227T200039Z
LAST-MODIFIED:20250227T212223Z
UID:2164-1745053200-1745172000@mcc-rhein-ahr.de
SUMMARY:MCC Open
DESCRIPTION:Offene Rennserie für 1:5 Tourenwagen\, GT\, Formel 1 und XR5 MCD. Samstagabends bei Einbruch der Dunkelheit ist die Stecke nur noch für beleuchtete Tourenwagen und GT geöffnet. 70 min Langstrecken-Nachtrennen bei ausreichend Startern möglich. \nAlle infos gibt es in der Ausschreibung:\nAusschreibung \nJetzt anmelden
URL:https://mcc-rhein-ahr.de/event/mcc-open/
LOCATION:Motodrom MCC Rhein Ahr\, MCC Rhein Ahr e.V.\, Bad Breisig\, RP\, 53489
CATEGORIES:Race Event
ORGANIZER;CN="Deutscher Minicar Club e.V. DMC":MAILTO:schatzmeister@dmc-online.com
END:VEVENT
END:VCALENDAR